BEGIN:VCALENDAR
VERSION:2.0
PRODID:-//LES Yearbook - ECPv6.15.18//NONSGML v1.0//EN
CALSCALE:GREGORIAN
METHOD:PUBLISH
X-ORIGINAL-URL:https://lesyearbook.nyc
X-WR-CALDESC:Events for LES Yearbook
REFRESH-INTERVAL;VALUE=DURATION:PT1H
X-Robots-Tag:noindex
X-PUBLISHED-TTL:PT1H
BEGIN:VTIMEZONE
TZID:UTC
BEGIN:STANDARD
TZOFFSETFROM:+0000
TZOFFSETTO:+0000
TZNAME:UTC
DTSTART:20240101T000000
END:STANDARD
END:VTIMEZONE
BEGIN:VEVENT
DTSTART;TZID=UTC:20251017T180000
DTEND;TZID=UTC:20251017T210000
DTSTAMP:20260419T235132
CREATED:20190513T075510Z
LAST-MODIFIED:20251017T184826Z
UID:927-1760724000-1760734800@lesyearbook.nyc
SUMMARY:Destiny Mata Lower East Side Yearbook: A Living Archive
DESCRIPTION:The Lower East Side Yearbook is an archival photo and storytelling project led by New York City photographer Destiny Mata about Lower East Side public housing residents and the importance of community memory. In this exhibition\, Mata’s photographs of her beloved neighborhood are presented alongside photos from the albums of Lower East Side residents Camille Napoleon\, Promise Jimenez\, Cheryl Kiwan\, Aicha Cheriff\, and TC Rosario\, which were collected through a community-wide open call. \nCurated by Ali Rosa-Salas. Exhibition design by Anzia Anderson. \nAbout Destiny Mata\nDestiny Mata is a Mexican American photographer and filmmaker based in her native New York City\, focusing on subculture and community. She comes from a family of photographers. Her grandfather was a part-time wedding photographer\, her aunt Chayo\, a fashion photographer\, and her mother documented family moments\, instilling in her the power of photography from an early age. Mata found her voice as a photographer capturing live music\, the everyday life of her Lower East Side neighborhood\, and stories of home. Her work explores themes of gentrification\, housing rights\, and the underground NYC punks of color music scene. \n\n\nMata studied photojournalism at LaGuardia Community College and San Antonio College\, before serving as Director of Photography Programs at the Lower Eastside Girls Club from 2017-2019. Her work has been exhibited widely\, including La Vida En Loisaida: Life on the Lower East Side at Photoville Festival Presented by: Abrons Art Center (2020) and her recent solo exhibition PULSE at Transmitter Gallery (2024). Mata has been published in The Nation “Behind The Doors of Public Housing” and The Culture Crush published her first book The Way We Were dedicated to NYC punks of color. She is a recipient of the Magnum Foundation Fellowship (2023)\, the WORTHLESS Studios Residency (2022)\, the Magnum Foundation US Dispatches Grant (2020)\, and this year awarded the En Foco Artist Fellowship. Rooted in the Lower East Side\, Mata continues to preserve and celebrate her community through collaborative storytelling.
URL:https://lesyearbook.nyc/program/east-side-yearbook-a-living-archive/
LOCATION:Abrons Art Center\, 466 Grand Street\, New York\, NY\, 10002\, United States
CATEGORIES:Upcoming
ATTACH;FMTTYPE=image/jpeg:https://lesyearbook.nyc/wp-content/uploads/2019/05/power-to-the-people_destiny-mata.jpg
END:VEVENT
END:VCALENDAR