BEGIN:VCALENDAR
VERSION:2.0
PRODID:-//LES Yearbook - ECPv6.15.18//NONSGML v1.0//EN
CALSCALE:GREGORIAN
METHOD:PUBLISH
X-ORIGINAL-URL:https://lesyearbook.nyc
X-WR-CALDESC:Events for LES Yearbook
REFRESH-INTERVAL;VALUE=DURATION:PT1H
X-Robots-Tag:noindex
X-PUBLISHED-TTL:PT1H
BEGIN:VTIMEZONE
TZID:UTC
BEGIN:STANDARD
TZOFFSETFROM:+0000
TZOFFSETTO:+0000
TZNAME:UTC
DTSTART:20240101T000000
END:STANDARD
END:VTIMEZONE
BEGIN:VEVENT
DTSTART;TZID=UTC:20251215T153000
DTEND;TZID=UTC:20251215T173000
DTSTAMP:20260419T165158
CREATED:20251115T183449Z
LAST-MODIFIED:20251017T190240Z
UID:6184-1765812600-1765819800@lesyearbook.nyc
SUMMARY:Collage & Connect
DESCRIPTION:Led by teaching artist Alison Stumpf & Kristina Stumpf \nA community voyage in collage\, poetry\, and storytelling for the LES Yearbook Project \nThe Collage + Connect Workshop Series invites participants on a creative journey through visual storytelling\, self-expression\, and community connection. Each monthly session builds on the last\, guiding participants from foundational collage techniques to mixed-media mastery and poetic integration—culminating in a collaborative community piece that celebrates the stories of the Lower East Side.
URL:https://lesyearbook.nyc/program/collage-connect-4/
ATTACH;FMTTYPE=image/jpeg:https://lesyearbook.nyc/wp-content/uploads/2025/10/Collage-Connect.jpg
ORGANIZER;CN="Center for Well Being & Happiness":MAILTO:cwbh@girlsclub.org
END:VEVENT
BEGIN:VEVENT
DTSTART;TZID=UTC:20251213T153000
DTEND;TZID=UTC:20251213T173000
DTSTAMP:20260419T165158
CREATED:20251017T183838Z
LAST-MODIFIED:20251017T184151Z
UID:6186-1765639800-1765647000@lesyearbook.nyc
SUMMARY:Collage & Connect
DESCRIPTION:Led by teaching artist Alison Stumpf & Kristina Stumpf \nA community voyage in collage\, poetry\, and storytelling for the LES Yearbook Project \nThe Collage + Connect Workshop Series invites participants on a creative journey through visual storytelling\, self-expression\, and community connection. Each monthly session builds on the last\, guiding participants from foundational collage techniques to mixed-media mastery and poetic integration—culminating in a collaborative community piece that celebrates the stories of the Lower East Side.
URL:https://lesyearbook.nyc/program/collage-connect-3/
ATTACH;FMTTYPE=image/jpeg:https://lesyearbook.nyc/wp-content/uploads/2025/10/Collage-Connect.jpg
ORGANIZER;CN="Center for Well Being & Happiness":MAILTO:cwbh@girlsclub.org
END:VEVENT
BEGIN:VEVENT
DTSTART;TZID=UTC:20251025T153000
DTEND;TZID=UTC:20251025T173000
DTSTAMP:20260419T165158
CREATED:20251017T182235Z
LAST-MODIFIED:20251017T184135Z
UID:6179-1761406200-1761413400@lesyearbook.nyc
SUMMARY:Collage & Connect
DESCRIPTION:Led by teaching artist Alison Stumpf & Kristina Stumpf \nA community voyage in collage\, poetry\, and storytelling for the LES Yearbook Project \nThe Collage + Connect Workshop Series invites participants on a creative journey through visual storytelling\, self-expression\, and community connection. Each monthly session builds on the last\, guiding participants from foundational collage techniques to mixed-media mastery and poetic integration—culminating in a collaborative community piece that celebrates the stories of the Lower East Side.
URL:https://lesyearbook.nyc/program/collage-connect-2-2/
ATTACH;FMTTYPE=image/jpeg:https://lesyearbook.nyc/wp-content/uploads/2025/10/Collage-Connect.jpg
ORGANIZER;CN="Center for Well Being & Happiness":MAILTO:cwbh@girlsclub.org
END:VEVENT
BEGIN:VEVENT
DTSTART;TZID=UTC:20251018T130000
DTEND;TZID=UTC:20251018T170000
DTSTAMP:20260419T165158
CREATED:20251017T174344Z
LAST-MODIFIED:20251017T175045Z
UID:6163-1760792400-1760806800@lesyearbook.nyc
SUMMARY:LES Yearbook Presents: The Season We Share – Masks\, Collage & Love Letters to the LES
DESCRIPTION:Join us for a day of creativity and storytelling as we celebrate the Lower East Side through hands-on art activities and community memory-sharing. Design collage masks\, write love letters to the LES\, capture your creations in our photo booth\, and craft a yearbook page to be included in the Lower East Side Yearbook—a multimedia archival project created in collaboration with residents of the Lower East Side and public housing. This living archive honors the legacy of our neighborhood through photography\, inter-generational conversations\, and shared memory. Please bring photos from your personal collection—especially from holidays or community events—to be photo scanned on-site and considered for inclusion in the Yearbook. Flyers\, posters\, and other ephemera are also welcome! \nAccessibility\nMain Gallery is on the second floor of the building and is accessible via the Garden gate and an elevator. To access the elevator\, visitors should request access with patron services at the front desk and they will assist in navigating around the exterior of the building to the Garden entrance. The Garden entrance is located on Willet Street via a 200-foot pathway with a small slope to the Garden entrance.
URL:https://lesyearbook.nyc/program/les-yearbook-presents-the-season-we-share-masks-collage-love-letters-to-the-les/
LOCATION:Abrons Art Center\, 466 Grand Street\, New York\, NY\, 10002\, United States
ATTACH;FMTTYPE=image/jpeg:https://lesyearbook.nyc/wp-content/uploads/2025/10/Abrons-Arts-Center_Building.jpg
END:VEVENT
BEGIN:VEVENT
DTSTART;TZID=UTC:20251017T180000
DTEND;TZID=UTC:20251017T210000
DTSTAMP:20260419T165158
CREATED:20190513T075510Z
LAST-MODIFIED:20251017T184826Z
UID:927-1760724000-1760734800@lesyearbook.nyc
SUMMARY:Destiny Mata Lower East Side Yearbook: A Living Archive
DESCRIPTION:The Lower East Side Yearbook is an archival photo and storytelling project led by New York City photographer Destiny Mata about Lower East Side public housing residents and the importance of community memory. In this exhibition\, Mata’s photographs of her beloved neighborhood are presented alongside photos from the albums of Lower East Side residents Camille Napoleon\, Promise Jimenez\, Cheryl Kiwan\, Aicha Cheriff\, and TC Rosario\, which were collected through a community-wide open call. \nCurated by Ali Rosa-Salas. Exhibition design by Anzia Anderson. \nAbout Destiny Mata\nDestiny Mata is a Mexican American photographer and filmmaker based in her native New York City\, focusing on subculture and community. She comes from a family of photographers. Her grandfather was a part-time wedding photographer\, her aunt Chayo\, a fashion photographer\, and her mother documented family moments\, instilling in her the power of photography from an early age. Mata found her voice as a photographer capturing live music\, the everyday life of her Lower East Side neighborhood\, and stories of home. Her work explores themes of gentrification\, housing rights\, and the underground NYC punks of color music scene. \n\n\nMata studied photojournalism at LaGuardia Community College and San Antonio College\, before serving as Director of Photography Programs at the Lower Eastside Girls Club from 2017-2019. Her work has been exhibited widely\, including La Vida En Loisaida: Life on the Lower East Side at Photoville Festival Presented by: Abrons Art Center (2020) and her recent solo exhibition PULSE at Transmitter Gallery (2024). Mata has been published in The Nation “Behind The Doors of Public Housing” and The Culture Crush published her first book The Way We Were dedicated to NYC punks of color. She is a recipient of the Magnum Foundation Fellowship (2023)\, the WORTHLESS Studios Residency (2022)\, the Magnum Foundation US Dispatches Grant (2020)\, and this year awarded the En Foco Artist Fellowship. Rooted in the Lower East Side\, Mata continues to preserve and celebrate her community through collaborative storytelling.
URL:https://lesyearbook.nyc/program/east-side-yearbook-a-living-archive/
LOCATION:Abrons Art Center\, 466 Grand Street\, New York\, NY\, 10002\, United States
CATEGORIES:Upcoming
ATTACH;FMTTYPE=image/jpeg:https://lesyearbook.nyc/wp-content/uploads/2019/05/power-to-the-people_destiny-mata.jpg
END:VEVENT
END:VCALENDAR